BEGIN:VCALENDAR
VERSION:2.0
PRODID:-//Date iCal//NONSGML kigkonsult.se iCalcreator 2.20.2//
METHOD:PUBLISH
BEGIN:VTIMEZONE
TZID:America/New_York
BEGIN:STANDARD
DTSTART:20251102T020000
TZOFFSETFROM:-0400
TZOFFSETTO:-0500
TZNAME:EST
END:STANDARD
BEGIN:DAYLIGHT
DTSTART:20250309T020000
TZOFFSETFROM:-0500
TZOFFSETTO:-0400
RDATE:20260308T020000
TZNAME:EDT
END:DAYLIGHT
END:VTIMEZONE
BEGIN:VEVENT
UID:calendar.379.events_uoft_date.0@www.caribbeanstudies.utoronto.ca
CREATED:20250905T195425Z
DESCRIPTION:\nWhen and Where: \nTuesday, September 30, 2025 4:00 pm to 6:
 00 pm \n\nDescription: \nWe’re so excited to welcome you to a brand-new ac
 ademic year! This year brings fresh opportunities, new connections, and 
 a chance to come together as a community.Join us at our 🎉 Welcome Back: Mi
 x & Mingle! 🎉 to meet fellow students, faculty, and staff in a relaxed,
  friendly atmosphere. Whether you’re returning or new to the program/U of 
 T, this is a great opportunity to catch up, network, and celebrate the 
 year ahead.📅 Date & Time: Tuesday, September 30th 4:00 - 6:00 PM 📍 Locati
 on: William Doo Auditorium at 45 Willcocks St, Toronto, ON M5S 2H3 🔗 RSV
 P : Refer to your Quercus A\noucement or Outlook InvitationWe can’t wait t
 o see you there! Please connect via email if you are interested in joining
 / receiving the Eventbrite link. P.S there will be free food.    \n\nCateg
 ories \n Social \n\nAudiences \n FacultyFirst-Year StudentsGraduate Studen
 tsStaffUndergraduate Students
DTSTART;TZID=America/New_York:20250930T160000
DTEND;TZID=America/New_York:20250930T180000
LAST-MODIFIED:20260108T200159Z
SUMMARY:Welcome Back: Mix & Mingle
URL;TYPE=URI:https://www.caribbeanstudies.utoronto.ca/events/welcome-back-m
 ix-mingle
END:VEVENT
END:VCALENDAR
